BEGIN:VCALENDAR
VERSION:2.0
PRODID:-//Lizzie Moon - ECPv6.15.15//NONSGML v1.0//EN
CALSCALE:GREGORIAN
METHOD:PUBLISH
X-ORIGINAL-URL:https://lizziemoon.com
X-WR-CALDESC:Events for Lizzie Moon
REFRESH-INTERVAL;VALUE=DURATION:PT1H
X-Robots-Tag:noindex
X-PUBLISHED-TTL:PT1H
BEGIN:VTIMEZONE
TZID:America/Phoenix
BEGIN:STANDARD
TZOFFSETFROM:-0700
TZOFFSETTO:-0700
TZNAME:MST
DTSTART:20230101T000000
END:STANDARD
END:VTIMEZONE
BEGIN:VEVENT
DTSTART;TZID=America/Phoenix:20240608T100000
DTEND;TZID=America/Phoenix:20240608T113000
DTSTAMP:20260421T043316
CREATED:20240512T055324Z
LAST-MODIFIED:20240709T160156Z
UID:713-1717840800-1717846200@lizziemoon.com
SUMMARY:Creating Harmonious LOVE Relationships - 5-Week Workshop for Women!
DESCRIPTION:See event on June 1st for description\n  \nClick for registration details
URL:https://lizziemoon.com/event/creating-harmonious-love-relationships-5-week-workshop-for-women-2/
LOCATION:Online
CATEGORIES:Workshop
ATTACH;FMTTYPE=image/png:https://lizziemoon.com/wp-content/uploads/2024/05/1.png
END:VEVENT
END:VCALENDAR