BEGIN:VCALENDAR
VERSION:2.0
PRODID:-//Lizzie Moon - ECPv6.15.15//NONSGML v1.0//EN
CALSCALE:GREGORIAN
METHOD:PUBLISH
X-WR-CALNAME:Lizzie Moon
X-ORIGINAL-URL:https://lizziemoon.com
X-WR-CALDESC:Events for Lizzie Moon
REFRESH-INTERVAL;VALUE=DURATION:PT1H
X-Robots-Tag:noindex
X-PUBLISHED-TTL:PT1H
BEGIN:VTIMEZONE
TZID:America/Phoenix
BEGIN:STANDARD
TZOFFSETFROM:-0700
TZOFFSETTO:-0700
TZNAME:MST
DTSTART:20240101T000000
END:STANDARD
END:VTIMEZONE
BEGIN:VEVENT
DTSTART;TZID=America/Phoenix:20251002T170000
DTEND;TZID=America/Phoenix:20251002T180000
DTSTAMP:20260420T001117
CREATED:20250512T232118Z
LAST-MODIFIED:20250821T044040Z
UID:1001-1759424400-1759428000@lizziemoon.com
SUMMARY:Intuition 365 - ELEV8 Community
DESCRIPTION:I’m so excited for the opportunity to speak to Sunny Dawn Johnston’s ELEV8 community for their Intuition 365 class! I’ll be presenting one of my favorite topics\, “The Cosmology of The Great Turning of the Ages.” \nMy greatest joy is offering individual and relationship readings\, classes and workshops from the Shamanic Astrology approach as a way to affirm\, liberate and empower each person to find and step confidently onto their soul’s unique and true path. \n“As Shamanic Astrologers … We are committed to a Life in the Service of assisting any sentient being desiring connection\, or reconnection\, to the magical link between Earth and Heavens\, and in navigating the initiations necessary for aligning with life purpose. \nOur highest priority and deepest motivation is love … we are committed to Dreaming the Dream Onwards.” \nYou can join the ELEV8 community here: \nJoin ELEV8 \nOr check out Sunny’s latest brilliant project\, The School of Light\, in which I am a founding member! I’d love for you to join us too! \n(I know it’s a strange looking link but just click “Home” and you’ll go right there! 🙂 \nhttps://www.schooloflight.biz?affiliate_code=70c2bb
URL:https://lizziemoon.com/event/intuition-365-elev8-community/
LOCATION:Online
CATEGORIES:Class,Shamanic Astrology
ATTACH;FMTTYPE=image/jpeg:https://lizziemoon.com/wp-content/uploads/2025/05/Intuition-365-FB-Lizzie-Kay-Moon-1.jpg
END:VEVENT
BEGIN:VEVENT
DTSTART;TZID=America/Phoenix:20251024T170000
DTEND;TZID=America/Phoenix:20251025T190000
DTSTAMP:20260420T001117
CREATED:20250829T222527Z
LAST-MODIFIED:20250829T222527Z
UID:1207-1761325200-1761418800@lizziemoon.com
SUMMARY:Rise To Purpose!! Mini-retreat at Moonhaven Ranch
DESCRIPTION:Rise To Purpose Retreats offer: \n\n time away in nature to get clear about what you’re doing and where you’re going;\na chance to be seen\, heard and supported in your devotion to your true heart’s desires and authentic path;\na space to share a process of revelation\, unfoldment\, healing and integration with grounded guidance\, somatic modalities\, and a circle of uplifting support.\n\nIn this retreat you’ll get an objective roadmap for your current life’s “purpose” or intent\, you’ll participate in exercises\, workshops and somatic modalities to reveal\, develop and anchor in your forward vision\, you’ll get tools and guidance on navigating your path to authenticity\, and you’ll connect with others in a supportive circle of others seeking the same clarity\, confidence and peace in knowing their unique way. \n\nWe’ll begin Friday evening with: \nOpening Intention Circle & Cacao Ceremony \nEnvisioning Meditation \nSomatic Sound Bath & Breathwork \nNight Sky Talk \nAnd on Saturday: \nElemental Arise at the Medicine Wheel \nBreakfast & Mingle in the Dome \nPurpose Pow-wow \nEmbodiment Expression Exercises \nLunch & Mingle \nRiver Walk \nCreate the Path Workshop \nInner Sacred Marriage Ceremony & Closing Circle \n\nFull Retreat pricing: $222 \nEarly bird!! (before September 15th) – $177 – use coupon code RTP-EARLY20 \nClick HERE to register & hold your space! \n\nIncludes: \n✨Small group – limited space available! \n✨Pre-retreat astrological chart summary and consult \n✨Overnight B&B\, ‘glamping’ or camping accommodations \n✨Yoga mats\, pillows\, cushions\, blankets\, creation supplies\, etc. \n✨In addition to Saturday breakfast and lunch\, refreshments\, snacks\, herbal tea & water also provided \n\nTerms: \nDeposit ($100) required to hold your space; balance due by September 24th \n(No refunds past September 24th.) \nOnce registered\, you’ll receive contact from either Lizzie or Michelle for your Pre-retreat consult. \nItems to bring: \nJournal \nAltar items (ideas: crystals\, herbs\, pictures\, meaningful reminders\, etc.) \nClick HERE to register & hold your space!
URL:https://lizziemoon.com/event/rise-to-purpose-mini-retreat-at-moonhaven-ranch/
LOCATION:Moon Ranch
CATEGORIES:Class,Retreat,Sound journey,Support circle,Workshop
ATTACH;FMTTYPE=image/jpeg:https://lizziemoon.com/wp-content/uploads/2024/03/RiseToPurpose2.jpg
ORGANIZER;CN="Lizzie Kay Moon":MAILTO:lizzie@lizziemoon.com
END:VEVENT
BEGIN:VEVENT
DTSTART;TZID=America/Phoenix:20251115T090000
DTEND;TZID=America/Phoenix:20251115T130000
DTSTAMP:20260420T001117
CREATED:20250821T025257Z
LAST-MODIFIED:20251111T020321Z
UID:1186-1763197200-1763211600@lizziemoon.com
SUMMARY:Lizzie Moon & Bobby at Arrowhead
DESCRIPTION:Come out to enjoy a beautiful morning supporting local businesses\, local creators and local live music! \nBobby & I will be playing some chill tunes at the Arrowhead Farmers’ Market at Dream City Church (75th Ave & 101) in Glendale! \nBring cash! Vendors like and we appreciate tips too! \nGet Local Arizona Events
URL:https://lizziemoon.com/event/lizzie-moon-bobby-private-event/
LOCATION:Dream City Church\, 21000 N 75th Ave\, Glendale\, AZ\, United States
CATEGORIES:Live music
ATTACH;FMTTYPE=image/png:https://lizziemoon.com/wp-content/uploads/2025/05/1.png
ORGANIZER;CN="Lizzie Kay Moon":MAILTO:lizzie@lizziemoon.com
END:VEVENT
BEGIN:VEVENT
DTSTART;TZID=America/Phoenix:20251119T100000
DTEND;TZID=America/Phoenix:20251119T110000
DTSTAMP:20260420T001117
CREATED:20251111T021711Z
LAST-MODIFIED:20251111T021711Z
UID:1223-1763546400-1763550000@lizziemoon.com
SUMMARY:Embodied Woman - Charted for Gold: Illuminating Your Path to Purposeful Prosperity
DESCRIPTION:I’m honored to be asked to teach in this community of powerful women who are creating their wealth from a grounded and embodied state of being … right up my alley! \nTo join us the Embodied Woman community where you receive not only 8 weeks of “Charted for Gold: Illuminating Your Path to Purposeful Prosperity” but also 2 weekly group sessions with the dynamic founder\, Danielle Marggraf\, embodiment practices\, supportive workbooks\, modules\, sessions and offerings to help you create what you want from a frequency that can’t fail: \nJoin the Embodied Woman community \nI’d love to see you there!
URL:https://lizziemoon.com/event/embodied-woman-charted-for-gold-illuminating-your-path-to-purposeful-prosperity/
LOCATION:Online
CATEGORIES:Class,Online seminars,Shamanic Astrology
ATTACH;FMTTYPE=image/png:https://lizziemoon.com/wp-content/uploads/2025/11/charted-for-gold.png
ORGANIZER;CN="Lizzie Kay Moon":MAILTO:lizzie@lizziemoon.com
END:VEVENT
BEGIN:VEVENT
DTSTART;TZID=America/Phoenix:20251124T170000
DTEND;TZID=America/Phoenix:20251124T190000
DTSTAMP:20260420T001117
CREATED:20251111T015123Z
LAST-MODIFIED:20251118T073508Z
UID:1213-1764003600-1764010800@lizziemoon.com
SUMMARY:The Sacred Essence & Shadow of the 12 Signs
DESCRIPTION:There’s SOO much more to you than your Sun sign!\n\n\n\nIn the Shamanic Astrology™ approach we are dedicated to remembering and revisioning the sacred essences of the 12 zodiac signs in a way that is helpful to:\n\n\nthe soul\,\nthe mind\,\nthe body\,\nthe individual and\nthe collective\n\n\n… at this important time in the history of humanity!\n\n\n\nIn this webinar we’ll explore the “sacred” and “shadow” expressions of each sign and the points other than the Sun that will give you a much deeper and richer answer to “what’s your sign?”\n\n\n\nEveryone who registers will receive a copy of your natal chart and the first 5 will get a personal review during the webinar that we’ll all learn from!
URL:https://lizziemoon.com/event/the-sacred-essence-shadow-of-the-12-signs/
LOCATION:Online
CATEGORIES:Online seminars,Shamanic Astrology
ATTACH;FMTTYPE=image/jpeg:https://lizziemoon.com/wp-content/uploads/2025/11/1.jpg
ORGANIZER;CN="Lizzie Kay Moon":MAILTO:lizzie@lizziemoon.com
END:VEVENT
BEGIN:VEVENT
DTSTART;TZID=America/Phoenix:20251203T100000
DTEND;TZID=America/Phoenix:20251203T110000
DTSTAMP:20260420T001117
CREATED:20251111T021947Z
LAST-MODIFIED:20251111T021947Z
UID:1226-1764756000-1764759600@lizziemoon.com
SUMMARY:Embodied Woman - Charted for Gold: Illuminating the Path to Purposeful Prosperity
DESCRIPTION:I’m honored to be asked to teach in this community of powerful women who are creating their wealth from a grounded and embodied state of being … right up my alley! \nTo join us the Embodied Woman community where you receive not only 8 weeks of “Charted for Gold: Illuminating Your Path to Purposeful Prosperity” but also 2 weekly group sessions with the dynamic founder\, Danielle Marggraf\, embodiment practices\, supportive workbooks\, modules\, sessions and offerings to help you create what you want from a frequency that can’t fail: \nJoin the Embodied Woman community \nI’d love to see you there!
URL:https://lizziemoon.com/event/embodied-woman-charted-for-gold-illuminating-the-path-to-purposeful-prosperity/
LOCATION:Online
CATEGORIES:Class,Online seminars,Shamanic Astrology
ATTACH;FMTTYPE=image/png:https://lizziemoon.com/wp-content/uploads/2025/11/charted-for-gold.png
ORGANIZER;CN="Lizzie Kay Moon":MAILTO:lizzie@lizziemoon.com
END:VEVENT
BEGIN:VEVENT
DTSTART;TZID=America/Phoenix:20251217T100000
DTEND;TZID=America/Phoenix:20251217T110000
DTSTAMP:20260420T001117
CREATED:20251111T022225Z
LAST-MODIFIED:20251111T022225Z
UID:1229-1765965600-1765969200@lizziemoon.com
SUMMARY:Embodied Woman - Charted for Gold: Illuminating the Path to Purposeful Prosperity
DESCRIPTION:I’m honored to be asked to teach in this community of powerful women who are creating their wealth from a grounded and embodied state of being … right up my alley! \nTo join us the Embodied Woman community where you receive not only 8 weeks of “Charted for Gold: Illuminating Your Path to Purposeful Prosperity” but also 2 weekly group sessions with the dynamic founder\, Danielle Marggraf\, embodiment practices\, supportive workbooks\, modules\, sessions and offerings to help you create what you want from a frequency that can’t fail: \nJoin the Embodied Woman community \nI’d love to see you there!
URL:https://lizziemoon.com/event/embodied-woman-charted-for-gold-illuminating-the-path-to-purposeful-prosperity-2/
LOCATION:Online
CATEGORIES:Class,Online seminars,Shamanic Astrology
ATTACH;FMTTYPE=image/png:https://lizziemoon.com/wp-content/uploads/2025/11/charted-for-gold.png
ORGANIZER;CN="Lizzie Kay Moon":MAILTO:lizzie@lizziemoon.com
END:VEVENT
END:VCALENDAR