BEGIN:VCALENDAR
VERSION:2.0
PRODID:-//Lizzie Moon - ECPv6.15.15//NONSGML v1.0//EN
CALSCALE:GREGORIAN
METHOD:PUBLISH
X-ORIGINAL-URL:https://lizziemoon.com
X-WR-CALDESC:Events for Lizzie Moon
REFRESH-INTERVAL;VALUE=DURATION:PT1H
X-Robots-Tag:noindex
X-PUBLISHED-TTL:PT1H
BEGIN:VTIMEZONE
TZID:America/Phoenix
BEGIN:STANDARD
TZOFFSETFROM:-0700
TZOFFSETTO:-0700
TZNAME:MST
DTSTART:20240101T000000
END:STANDARD
END:VTIMEZONE
BEGIN:VEVENT
DTSTART;TZID=America/Phoenix:20250609T170000
DTEND;TZID=America/Phoenix:20250609T190000
DTSTAMP:20260419T061800
CREATED:20250512T231248Z
LAST-MODIFIED:20250512T231432Z
UID:995-1749488400-1749495600@lizziemoon.com
SUMMARY:Inner Sacred Marriage - Path to Wholeness
DESCRIPTION:Every one of us has inherent masculine and feminine energies within us – in general terms\, the energy that “acts” and the energy that “receives.” We could say that for biological  men\, the masculine energy “comes naturally” as does the feminine energy for biological women. This means that it is likely that the “opposite sex” energy is something we find attractive in or project onto “the other.” However\, to achieve our own sovereign and individuated wholeness\, we seek to bring together or “marry” these energies within ourselves. \nCertain points on our unique cosmic mandala (i.e. natal birth chart) show us the path to take if we choose. In this workshop\, we’ll look at each person’s chart to discover the distinctive Inner Sacred Marriage formula as your personal road to inner wholeness. By knowing and undertanding this in ourselves and in others\, we give ourselves permission to walk confidently in our soul’s intent and to improve our relationships with ourselves and with others. \nOnly 6 spaces!! \n  \nContact Lizzie to register: Lizzie@lizziemoon.com \nVenmo @LizzieKayMoon \nZell – 623-432-4425
URL:https://lizziemoon.com/event/inner-sacred-marriage-path-to-wholeness/
LOCATION:Online
CATEGORIES:Class,Online seminars,Shamanic Astrology,Workshop
ATTACH;FMTTYPE=image/jpeg:https://lizziemoon.com/wp-content/uploads/2025/05/Embracing-the-Sacred.jpg
ORGANIZER;CN="Lizzie Kay Moon":MAILTO:lizzie@lizziemoon.com
END:VEVENT
BEGIN:VEVENT
DTSTART;TZID=America/Phoenix:20250621T080000
DTEND;TZID=America/Phoenix:20250621T110000
DTSTAMP:20260419T061800
CREATED:20250512T232820Z
LAST-MODIFIED:20250512T232820Z
UID:1011-1750492800-1750503600@lizziemoon.com
SUMMARY:Lizzie Moon (private event)
DESCRIPTION:
URL:https://lizziemoon.com/event/lizzie-moon-private-event/
LOCATION:The Cantina at Presidio\, 18209 W Calistoga Dr\, Goodyear\, AZ\, 85338\, United States
CATEGORIES:Live music
ATTACH;FMTTYPE=image/jpeg:https://lizziemoon.com/wp-content/uploads/2024/02/LMBand.jpg
END:VEVENT
END:VCALENDAR