BEGIN:VCALENDAR
VERSION:2.0
PRODID:-//Lizzie Moon - ECPv6.15.15//NONSGML v1.0//EN
CALSCALE:GREGORIAN
METHOD:PUBLISH
X-WR-CALNAME:Lizzie Moon
X-ORIGINAL-URL:https://lizziemoon.com
X-WR-CALDESC:Events for Lizzie Moon
REFRESH-INTERVAL;VALUE=DURATION:PT1H
X-Robots-Tag:noindex
X-PUBLISHED-TTL:PT1H
BEGIN:VTIMEZONE
TZID:America/Phoenix
BEGIN:STANDARD
TZOFFSETFROM:-0700
TZOFFSETTO:-0700
TZNAME:MST
DTSTART:20240101T000000
END:STANDARD
END:VTIMEZONE
BEGIN:VEVENT
DTSTART;TZID=America/Phoenix:20250712T173000
DTEND;TZID=America/Phoenix:20250712T193000
DTSTAMP:20260419T080154
CREATED:20240530T224716Z
LAST-MODIFIED:20250708T004355Z
UID:743-1752341400-1752348600@lizziemoon.com
SUMMARY:Lizzie Moon & Bobby Morgan at The Cantina at Presidio
DESCRIPTION:Come support local business and live music at \nThe Cantina at Presidio in Estrella Mountain Ranch! \nWhat could be better than summertime fun\, eats & drinks in a beautiful place?!? \nSaturday\, July 12th \n5:30-7:30 pm \n18209 W Calistoga Dr\, Goodyear AZ \n 
URL:https://lizziemoon.com/event/lizzie-moon-bobby-morgan-at-the-cantina-at-presidio/
LOCATION:The Cantina at Presidio\, 18209 W Calistoga Dr\, Goodyear\, AZ\, 85338\, United States
CATEGORIES:Live music
ATTACH;FMTTYPE=image/jpeg:https://lizziemoon.com/wp-content/uploads/2024/05/Cantina-at-Presidio-July-12.jpg
ORGANIZER;CN="Lizzie Kay Moon":MAILTO:lizzie@lizziemoon.com
END:VEVENT
BEGIN:VEVENT
DTSTART;TZID=America/Phoenix:20250719T200000
DTEND;TZID=America/Phoenix:20250719T230000
DTSTAMP:20260419T080154
CREATED:20250629T204251Z
LAST-MODIFIED:20250629T204251Z
UID:1045-1752955200-1752966000@lizziemoon.com
SUMMARY:Lizzie Moon & Bobby at The Breakaway!
DESCRIPTION:Lizzie Moon & Bobby welcome our special guest\, percussionist and vocalist\, Jason Woods to join us in supporting a new local business\, The Breakaway Sports Bar & Grill! \nA few weeks ago\, we had the pleasure of bringing some chill tunes to their other loaction\, Sip! At the Ranch\, and now we’ll be picking up the pace at their new location where they elevate this locals’ spot with delicious food\, great drinks and good vibes! \nCome out and help us support local Goodyear business\, staff\, economy\, community and live music!!!
URL:https://lizziemoon.com/event/lizzie-moon-bobby-at-the-breakaway/
LOCATION:The Breakaway\, 633 S Estrella Pkwy\, Goodyear\, AZ\, United States
ATTACH;FMTTYPE=image/jpeg:https://lizziemoon.com/wp-content/uploads/2025/06/Breakaway-July-flyer.jpg
ORGANIZER;CN="Lizzie Kay Moon":MAILTO:lizzie@lizziemoon.com
END:VEVENT
END:VCALENDAR